BEGIN:VCALENDAR
VERSION:2.0
PRODID:-//Pennsylvania Statewide Tobacco-Free Recovery Initiative - ECPv6.15.18//NONSGML v1.0//EN
CALSCALE:GREGORIAN
METHOD:PUBLISH
X-WR-CALNAME:Pennsylvania Statewide Tobacco-Free Recovery Initiative
X-ORIGINAL-URL:https://tobaccofreerecoverypa.com
X-WR-CALDESC:Events for Pennsylvania Statewide Tobacco-Free Recovery Initiative
REFRESH-INTERVAL;VALUE=DURATION:PT1H
X-Robots-Tag:noindex
X-PUBLISHED-TTL:PT1H
BEGIN:VTIMEZONE
TZID:America/New_York
BEGIN:DAYLIGHT
TZOFFSETFROM:-0500
TZOFFSETTO:-0400
TZNAME:EDT
DTSTART:20240310T070000
END:DAYLIGHT
BEGIN:STANDARD
TZOFFSETFROM:-0400
TZOFFSETTO:-0500
TZNAME:EST
DTSTART:20241103T060000
END:STANDARD
BEGIN:DAYLIGHT
TZOFFSETFROM:-0500
TZOFFSETTO:-0400
TZNAME:EDT
DTSTART:20250309T070000
END:DAYLIGHT
BEGIN:STANDARD
TZOFFSETFROM:-0400
TZOFFSETTO:-0500
TZNAME:EST
DTSTART:20251102T060000
END:STANDARD
BEGIN:DAYLIGHT
TZOFFSETFROM:-0500
TZOFFSETTO:-0400
TZNAME:EDT
DTSTART:20260308T070000
END:DAYLIGHT
BEGIN:STANDARD
TZOFFSETFROM:-0400
TZOFFSETTO:-0500
TZNAME:EST
DTSTART:20261101T060000
END:STANDARD
END:VTIMEZONE
BEGIN:VEVENT
DTSTART;TZID=America/New_York:20251118T120000
DTEND;TZID=America/New_York:20251118T133000
DTSTAMP:20260420T063730
CREATED:20251022T171047Z
LAST-MODIFIED:20251022T171109Z
UID:1023-1763467200-1763472600@tobaccofreerecoverypa.com
SUMMARY:Tobacco Recovery: Learning to be Tobacco-Free!
DESCRIPTION:Applying the principles of recovery to address a tobacco use disorder allows for a rewarding\, growth promoting process of behavior change. \n  \nUpon completion of this training\, participants will be able to: \n1. Define Tobacco Use Disorder \n2. Explain proactive strategies to adapt to behavior change \n3. Identify ways to relieve craving and withdrawal \n4. Learn how to support significant others \nREGISTER HERE
URL:https://tobaccofreerecoverypa.com/training/tobacco-recovery-learning-to-be-tobacco-free-37/
CATEGORIES:Training
END:VEVENT
END:VCALENDAR