BEGIN:VCALENDAR
VERSION:2.0
PRODID:-//Pennsylvania Statewide Tobacco-Free Recovery Initiative - ECPv6.15.18//NONSGML v1.0//EN
CALSCALE:GREGORIAN
METHOD:PUBLISH
X-ORIGINAL-URL:https://tobaccofreerecoverypa.com
X-WR-CALDESC:Events for Pennsylvania Statewide Tobacco-Free Recovery Initiative
REFRESH-INTERVAL;VALUE=DURATION:PT1H
X-Robots-Tag:noindex
X-PUBLISHED-TTL:PT1H
BEGIN:VTIMEZONE
TZID:America/New_York
BEGIN:DAYLIGHT
TZOFFSETFROM:-0500
TZOFFSETTO:-0400
TZNAME:EDT
DTSTART:20240310T070000
END:DAYLIGHT
BEGIN:STANDARD
TZOFFSETFROM:-0400
TZOFFSETTO:-0500
TZNAME:EST
DTSTART:20241103T060000
END:STANDARD
BEGIN:DAYLIGHT
TZOFFSETFROM:-0500
TZOFFSETTO:-0400
TZNAME:EDT
DTSTART:20250309T070000
END:DAYLIGHT
BEGIN:STANDARD
TZOFFSETFROM:-0400
TZOFFSETTO:-0500
TZNAME:EST
DTSTART:20251102T060000
END:STANDARD
BEGIN:DAYLIGHT
TZOFFSETFROM:-0500
TZOFFSETTO:-0400
TZNAME:EDT
DTSTART:20260308T070000
END:DAYLIGHT
BEGIN:STANDARD
TZOFFSETFROM:-0400
TZOFFSETTO:-0500
TZNAME:EST
DTSTART:20261101T060000
END:STANDARD
END:VTIMEZONE
BEGIN:VEVENT
DTSTART;TZID=America/New_York:20250903T120000
DTEND;TZID=America/New_York:20250903T133000
DTSTAMP:20260423T085758
CREATED:20250606T123514Z
LAST-MODIFIED:20250624T131014Z
UID:980-1756900800-1756906200@tobaccofreerecoverypa.com
SUMMARY:The Rationale: Addressing Tobacco Use in Behavioral Health Services
DESCRIPTION:This presentation explores tobacco use disorder specific to a behavioral health population and integrated recovery-oriented interventions. \n  \nUpon completion of this training\, participants will be able to: \n1. Define the origin of prevailing tobacco-related social norms in the treatment and recovery culture. \n2. Cite data to demonstrate that Pennsylvanians with mental and substance use disorders have disproportional tobacco-related health disparities and inadequate access to appropriate tobacco treatment services. \n3. Identify strategies to denormalize tobacco use in behavioral health settings and support evidence-based tobacco use disorder interventions within a recovery-oriented framework. \nREGISTER HERE
URL:https://tobaccofreerecoverypa.com/training/the-rationale-addressing-tobacco-use-in-behavioral-health-services-33/
CATEGORIES:Training
END:VEVENT
BEGIN:VEVENT
DTSTART;TZID=America/New_York:20250904T120000
DTEND;TZID=America/New_York:20250904T130000
DTSTAMP:20260423T085758
CREATED:20250606T123726Z
LAST-MODIFIED:20250624T131134Z
UID:981-1756987200-1756990800@tobaccofreerecoverypa.com
SUMMARY:Pharmacotherapy: Managing Tobacco Withdrawal with Confidence
DESCRIPTION:Explore how pharmacotherapy is a safe\, well-tolerated\, and an effective solution for managing tobacco withdrawal and craving. \n  \nLEARNING OBJECTIVES:\n\nRecognize the symptoms of tobacco withdrawal.\nIdentify FDA-approved medications to manage tobacco withdrawal and craving.\nDevelop an understanding of the effectiveness of pharmacotherapy to treat tobacco use disorder\nDescribe how to dose and properly use nicotine and non-nicotine medications.\nRespond to common medication questions and concerns.\n\nREGISTER HERE
URL:https://tobaccofreerecoverypa.com/training/pharmacotherapy-managing-tobacco-withdrawal-with-confidence-27/
CATEGORIES:Training
END:VEVENT
BEGIN:VEVENT
DTSTART;TZID=America/New_York:20250905T120000
DTEND;TZID=America/New_York:20250905T130000
DTSTAMP:20260423T085758
CREATED:20250606T123927Z
LAST-MODIFIED:20250617T112637Z
UID:982-1757073600-1757077200@tobaccofreerecoverypa.com
SUMMARY:Vaping: What We Know and What We Don't Know
DESCRIPTION:An overview of the use of e-cigarettes and other vaping devices with a special focus on individuals with behavioral challenges. \nREGISTER HERE
URL:https://tobaccofreerecoverypa.com/training/vaping-what-we-know-and-what-we-dont-know-36/
CATEGORIES:Training
END:VEVENT
BEGIN:VEVENT
DTSTART;TZID=America/New_York:20250909T120000
DTEND;TZID=America/New_York:20250909T133000
DTSTAMP:20260423T085758
CREATED:20250606T124054Z
LAST-MODIFIED:20250617T112050Z
UID:983-1757419200-1757424600@tobaccofreerecoverypa.com
SUMMARY:Tobacco Recovery: Learning to be Tobacco-Free!
DESCRIPTION:Applying the principles of recovery to address a tobacco use disorder allows for a rewarding\, growth promoting process of behavior change. \nREGISTER HERE
URL:https://tobaccofreerecoverypa.com/training/tobacco-recovery-learning-to-be-tobacco-free-34/
CATEGORIES:Training
END:VEVENT
BEGIN:VEVENT
DTSTART;TZID=America/New_York:20250910T120000
DTEND;TZID=America/New_York:20250910T130000
DTSTAMP:20260423T085758
CREATED:20250606T124614Z
LAST-MODIFIED:20250821T174554Z
UID:985-1757505600-1757509200@tobaccofreerecoverypa.com
SUMMARY:Pharmacotherapy: Managing Tobacco Withdrawal with Confidence
DESCRIPTION:Explore how pharmacotherapy is a safe\, well-tolerated\, and an effective solution for managing tobacco withdrawal and craving. \n  \nLEARNING OBJECTIVES:\n\nRecognize the symptoms of tobacco withdrawal.\nIdentify FDA-approved medications to manage tobacco withdrawal and craving.\nDevelop an understanding of the effectiveness of pharmacotherapy to treat tobacco use disorder.\nDescribe how to dose and properly use nicotine and non-nicotine medications.\nRespond to common medication questions and concerns.\n\nREGISTER HERE
URL:https://tobaccofreerecoverypa.com/training/pharmacotherapy-managing-tobacco-withdrawal-with-confidence-28/
CATEGORIES:Training
END:VEVENT
BEGIN:VEVENT
DTSTART;TZID=America/New_York:20250916T120000
DTEND;TZID=America/New_York:20250916T133000
DTSTAMP:20260423T085758
CREATED:20250606T124412Z
LAST-MODIFIED:20250624T131213Z
UID:984-1758024000-1758029400@tobaccofreerecoverypa.com
SUMMARY:The Rationale: Addressing Tobacco Use in Behavioral Health Services
DESCRIPTION:This presentation explores tobacco use disorder specific to a behavioral health population and integrated recovery-oriented interventions. \n  \nUpon completion of this training\, participants will be able to: \n1. Define the origin of prevailing tobacco-related social norms in the treatment and recovery culture. \n2. Cite data to demonstrate that Pennsylvanians with mental and substance use disorders have disproportional tobacco-related health disparities and inadequate access to appropriate tobacco treatment services. \n3. Identify strategies to denormalize tobacco use in behavioral health settings and support evidence-based tobacco use disorder interventions within a recovery-oriented framework. \nREGISTER HERE
URL:https://tobaccofreerecoverypa.com/training/the-rationale-addressing-tobacco-use-in-behavioral-health-services-34/
CATEGORIES:Training
END:VEVENT
BEGIN:VEVENT
DTSTART;TZID=America/New_York:20250918T120000
DTEND;TZID=America/New_York:20250918T130000
DTSTAMP:20260423T085758
CREATED:20250606T124818Z
LAST-MODIFIED:20250624T131340Z
UID:986-1758196800-1758200400@tobaccofreerecoverypa.com
SUMMARY:Vaping: What We Know and What We Don't Know
DESCRIPTION:An overview of the use of e-cigarettes and other vaping devices with a special focus on individuals with behavioral challenges. \n\n\nLEARNING OBJECTIVES:\n\nProvide a description of current vaping products on the market today.\nReview adult and youth prevalence data.\nIdentify the association between combustible tobacco and vaping product use.\nReview data on the safety and efficacy of e-cigarettes to stop smoking.\nPresent an overview of community resources for prevention and treatment.\n\n\n\nREGISTER HERE
URL:https://tobaccofreerecoverypa.com/training/vaping-what-we-know-and-what-we-dont-know-37/
CATEGORIES:Training
END:VEVENT
BEGIN:VEVENT
DTSTART;TZID=America/New_York:20250930T120000
DTEND;TZID=America/New_York:20250930T133000
DTSTAMP:20260423T085758
CREATED:20250606T124932Z
LAST-MODIFIED:20250625T141158Z
UID:987-1759233600-1759239000@tobaccofreerecoverypa.com
SUMMARY:Tobacco Recovery: Learning to be Tobacco-Free!
DESCRIPTION:Applying the principles of recovery to address a tobacco use disorder allows for a rewarding\, growth promoting process of behavior change. \n  \nUpon completion of this training\, participants will be able to: \n1. Define Tobacco Use Disorder \n2. Explain proactive strategies to adapt to behavior change \n3. Identify ways to relieve craving and withdrawal \n4. Learn how to support significant others \nREGISTER HERE
URL:https://tobaccofreerecoverypa.com/training/tobacco-recovery-learning-to-be-tobacco-free-35/
CATEGORIES:Training
END:VEVENT
END:VCALENDAR