BEGIN:VCALENDAR
VERSION:2.0
PRODID:-//Pennsylvania Statewide Tobacco-Free Recovery Initiative - ECPv6.15.18//NONSGML v1.0//EN
CALSCALE:GREGORIAN
METHOD:PUBLISH
X-WR-CALNAME:Pennsylvania Statewide Tobacco-Free Recovery Initiative
X-ORIGINAL-URL:https://tobaccofreerecoverypa.com
X-WR-CALDESC:Events for Pennsylvania Statewide Tobacco-Free Recovery Initiative
REFRESH-INTERVAL;VALUE=DURATION:PT1H
X-Robots-Tag:noindex
X-PUBLISHED-TTL:PT1H
BEGIN:VTIMEZONE
TZID:America/New_York
BEGIN:DAYLIGHT
TZOFFSETFROM:-0500
TZOFFSETTO:-0400
TZNAME:EDT
DTSTART:20250309T070000
END:DAYLIGHT
BEGIN:STANDARD
TZOFFSETFROM:-0400
TZOFFSETTO:-0500
TZNAME:EST
DTSTART:20251102T060000
END:STANDARD
BEGIN:DAYLIGHT
TZOFFSETFROM:-0500
TZOFFSETTO:-0400
TZNAME:EDT
DTSTART:20260308T070000
END:DAYLIGHT
BEGIN:STANDARD
TZOFFSETFROM:-0400
TZOFFSETTO:-0500
TZNAME:EST
DTSTART:20261101T060000
END:STANDARD
BEGIN:DAYLIGHT
TZOFFSETFROM:-0500
TZOFFSETTO:-0400
TZNAME:EDT
DTSTART:20270314T070000
END:DAYLIGHT
BEGIN:STANDARD
TZOFFSETFROM:-0400
TZOFFSETTO:-0500
TZNAME:EST
DTSTART:20271107T060000
END:STANDARD
END:VTIMEZONE
BEGIN:VEVENT
DTSTART;TZID=America/New_York:20260106T120000
DTEND;TZID=America/New_York:20260106T133000
DTSTAMP:20260421T080356
CREATED:20251218T154632Z
LAST-MODIFIED:20251218T154632Z
UID:1061-1767700800-1767706200@tobaccofreerecoverypa.com
SUMMARY:Tobacco Recovery: Learning to be Tobacco-Free!
DESCRIPTION:Applying the principles of recovery to address a tobacco use disorder allows for a rewarding\, growth promoting process of behavior change. \n  \nUpon completion of this training\, participants will be able to: \n1. Define Tobacco Use Disorder \n2. Explain proactive strategies to adapt to behavior change \n3. Identify ways to relieve craving and withdrawal \n4. Learn how to support significant others \nREGISTER HERE
URL:https://tobaccofreerecoverypa.com/training/tobacco-recovery-learning-to-be-tobacco-free-39/
CATEGORIES:Training
END:VEVENT
BEGIN:VEVENT
DTSTART;TZID=America/New_York:20260107T120000
DTEND;TZID=America/New_York:20260107T130000
DTSTAMP:20260421T080356
CREATED:20251215T154850Z
LAST-MODIFIED:20251215T155448Z
UID:1044-1767787200-1767790800@tobaccofreerecoverypa.com
SUMMARY:Pharmacotherapy: Managing Tobacco Withdrawal with Confidence
DESCRIPTION:Explore how pharmacotherapy is a safe\, well-tolerated\, and an effective solution for managing tobacco withdrawal and craving. \n  \nLEARNING OBJECTIVES:\n\nRecognize the symptoms of tobacco withdrawal.\nIdentify FDA-approved medications to manage tobacco withdrawal and craving.\nDevelop an understanding of the effectiveness of pharmacotherapy to treat tobacco use disorder\nDescribe how to dose and properly use nicotine and non-nicotine medications.\nRespond to common medication questions and concerns.\n\nREGISTER HERE
URL:https://tobaccofreerecoverypa.com/training/pharmacotherapy-managing-tobacco-withdrawal-with-confidence-32/
CATEGORIES:Training
END:VEVENT
BEGIN:VEVENT
DTSTART;TZID=America/New_York:20260108T120000
DTEND;TZID=America/New_York:20260108T130000
DTSTAMP:20260421T080356
CREATED:20251215T155345Z
LAST-MODIFIED:20251215T155345Z
UID:1045-1767873600-1767877200@tobaccofreerecoverypa.com
SUMMARY:Vaping: What We Know and What We Don't Know
DESCRIPTION:An overview of the use of e-cigarettes and other vaping devices with a special focus on individuals with behavioral challenges. \n\n\nLEARNING OBJECTIVES:\n\nProvide a description of current vaping products on the market today.\nReview adult and youth prevalence data.\nIdentify the association between combustible tobacco and vaping product use.\nReview data on the safety and efficacy of e-cigarettes to stop smoking.\nPresent an overview of community resources for prevention and treatment.\n\n\n\nREGISTER HERE
URL:https://tobaccofreerecoverypa.com/training/vaping-what-we-know-and-what-we-dont-know-44/
CATEGORIES:Training
END:VEVENT
BEGIN:VEVENT
DTSTART;TZID=America/New_York:20260123T120000
DTEND;TZID=America/New_York:20260123T130000
DTSTAMP:20260421T080356
CREATED:20251215T155621Z
LAST-MODIFIED:20251215T155621Z
UID:1046-1769169600-1769173200@tobaccofreerecoverypa.com
SUMMARY:Vaping: What We Know and What We Don't Know
DESCRIPTION:An overview of the use of e-cigarettes and other vaping devices with a special focus on individuals with behavioral challenges. \n\n\nLEARNING OBJECTIVES:\n\nProvide a description of current vaping products on the market today.\nReview adult and youth prevalence data.\nIdentify the association between combustible tobacco and vaping product use.\nReview data on the safety and efficacy of e-cigarettes to stop smoking.\nPresent an overview of community resources for prevention and treatment.\n\n\n\nREGISTER HERE
URL:https://tobaccofreerecoverypa.com/training/vaping-what-we-know-and-what-we-dont-know-45/
CATEGORIES:Training
END:VEVENT
BEGIN:VEVENT
DTSTART;TZID=America/New_York:20260129T120000
DTEND;TZID=America/New_York:20260129T130000
DTSTAMP:20260421T080356
CREATED:20251215T155902Z
LAST-MODIFIED:20251215T155902Z
UID:1047-1769688000-1769691600@tobaccofreerecoverypa.com
SUMMARY:Pharmacotherapy: Managing Tobacco Withdrawal with Confidence
DESCRIPTION:Explore how pharmacotherapy is a safe\, well-tolerated\, and an effective solution for managing tobacco withdrawal and craving. \n  \nLEARNING OBJECTIVES:\n\nRecognize the symptoms of tobacco withdrawal.\nIdentify FDA-approved medications to manage tobacco withdrawal and craving.\nDevelop an understanding of the effectiveness of pharmacotherapy to treat tobacco use disorder\nDescribe how to dose and properly use nicotine and non-nicotine medications.\nRespond to common medication questions and concerns.\n\nREGISTER HERE
URL:https://tobaccofreerecoverypa.com/training/pharmacotherapy-managing-tobacco-withdrawal-with-confidence-33/
CATEGORIES:Training
END:VEVENT
END:VCALENDAR