BEGIN:VCALENDAR
VERSION:2.0
PRODID:-//Pennsylvania Statewide Tobacco-Free Recovery Initiative - ECPv6.15.18//NONSGML v1.0//EN
CALSCALE:GREGORIAN
METHOD:PUBLISH
X-ORIGINAL-URL:https://tobaccofreerecoverypa.com
X-WR-CALDESC:Events for Pennsylvania Statewide Tobacco-Free Recovery Initiative
REFRESH-INTERVAL;VALUE=DURATION:PT1H
X-Robots-Tag:noindex
X-PUBLISHED-TTL:PT1H
BEGIN:VTIMEZONE
TZID:America/New_York
BEGIN:DAYLIGHT
TZOFFSETFROM:-0500
TZOFFSETTO:-0400
TZNAME:EDT
DTSTART:20250309T070000
END:DAYLIGHT
BEGIN:STANDARD
TZOFFSETFROM:-0400
TZOFFSETTO:-0500
TZNAME:EST
DTSTART:20251102T060000
END:STANDARD
BEGIN:DAYLIGHT
TZOFFSETFROM:-0500
TZOFFSETTO:-0400
TZNAME:EDT
DTSTART:20260308T070000
END:DAYLIGHT
BEGIN:STANDARD
TZOFFSETFROM:-0400
TZOFFSETTO:-0500
TZNAME:EST
DTSTART:20261101T060000
END:STANDARD
BEGIN:DAYLIGHT
TZOFFSETFROM:-0500
TZOFFSETTO:-0400
TZNAME:EDT
DTSTART:20270314T070000
END:DAYLIGHT
BEGIN:STANDARD
TZOFFSETFROM:-0400
TZOFFSETTO:-0500
TZNAME:EST
DTSTART:20271107T060000
END:STANDARD
END:VTIMEZONE
BEGIN:VEVENT
DTSTART;TZID=America/New_York:20260206T120000
DTEND;TZID=America/New_York:20260206T130000
DTSTAMP:20260421T080508
CREATED:20251215T160045Z
LAST-MODIFIED:20251215T160045Z
UID:1048-1770379200-1770382800@tobaccofreerecoverypa.com
SUMMARY:Vaping: What We Know and What We Don't Know
DESCRIPTION:An overview of the use of e-cigarettes and other vaping devices with a special focus on individuals with behavioral challenges. \n\n\nLEARNING OBJECTIVES:\n\nProvide a description of current vaping products on the market today.\nReview adult and youth prevalence data.\nIdentify the association between combustible tobacco and vaping product use.\nReview data on the safety and efficacy of e-cigarettes to stop smoking.\nPresent an overview of community resources for prevention and treatment.\n\n\n\nREGISTER HERE
URL:https://tobaccofreerecoverypa.com/training/vaping-what-we-know-and-what-we-dont-know-46/
CATEGORIES:Training
END:VEVENT
BEGIN:VEVENT
DTSTART;TZID=America/New_York:20260212T120000
DTEND;TZID=America/New_York:20260212T130000
DTSTAMP:20260421T080508
CREATED:20251215T160242Z
LAST-MODIFIED:20251215T160242Z
UID:1049-1770897600-1770901200@tobaccofreerecoverypa.com
SUMMARY:Pharmacotherapy: Managing Tobacco Withdrawal with Confidence
DESCRIPTION:Explore how pharmacotherapy is a safe\, well-tolerated\, and an effective solution for managing tobacco withdrawal and craving. \n  \nLEARNING OBJECTIVES:\n\nRecognize the symptoms of tobacco withdrawal.\nIdentify FDA-approved medications to manage tobacco withdrawal and craving.\nDevelop an understanding of the effectiveness of pharmacotherapy to treat tobacco use disorder\nDescribe how to dose and properly use nicotine and non-nicotine medications.\nRespond to common medication questions and concerns.\n\nREGISTER HERE
URL:https://tobaccofreerecoverypa.com/training/pharmacotherapy-managing-tobacco-withdrawal-with-confidence-34/
CATEGORIES:Training
END:VEVENT
BEGIN:VEVENT
DTSTART;TZID=America/New_York:20260213T120000
DTEND;TZID=America/New_York:20260213T133000
DTSTAMP:20260421T080508
CREATED:20251215T160656Z
LAST-MODIFIED:20251215T160709Z
UID:1051-1770984000-1770989400@tobaccofreerecoverypa.com
SUMMARY:The Rationale: Addressing Tobacco Use in Behavioral Health Services
DESCRIPTION:This presentation explores tobacco use disorder specific to a behavioral health population and integrated recovery-oriented interventions. \n  \nUpon completion of this training\, participants will be able to: \n1. Define the origin of prevailing tobacco-related social norms in the treatment and recovery culture. \n2. Cite data to demonstrate that Pennsylvanians with mental and substance use disorders have disproportional tobacco-related health disparities and inadequate access to appropriate tobacco treatment services. \n3. Identify strategies to denormalize tobacco use in behavioral health settings and support evidence-based tobacco use disorder interventions within a recovery-oriented framework. \nREGISTER HERE
URL:https://tobaccofreerecoverypa.com/training/the-rationale-addressing-tobacco-use-in-behavioral-health-services-37/
CATEGORIES:Training
END:VEVENT
BEGIN:VEVENT
DTSTART;TZID=America/New_York:20260219T120000
DTEND;TZID=America/New_York:20260219T133000
DTSTAMP:20260421T080508
CREATED:20251215T160443Z
LAST-MODIFIED:20251215T160443Z
UID:1050-1771502400-1771507800@tobaccofreerecoverypa.com
SUMMARY:Tobacco Recovery: Learning to be Tobacco-Free!
DESCRIPTION:Applying the principles of recovery to address a tobacco use disorder allows for a rewarding\, growth promoting process of behavior change. \n  \nUpon completion of this training\, participants will be able to: \n1. Define Tobacco Use Disorder \n2. Explain proactive strategies to adapt to behavior change \n3. Identify ways to relieve craving and withdrawal \n4. Learn how to support significant others \nREGISTER HERE
URL:https://tobaccofreerecoverypa.com/training/tobacco-recovery-learning-to-be-tobacco-free-38/
CATEGORIES:Training
END:VEVENT
BEGIN:VEVENT
DTSTART;TZID=America/New_York:20260220T120000
DTEND;TZID=America/New_York:20260220T130000
DTSTAMP:20260421T080508
CREATED:20251215T160849Z
LAST-MODIFIED:20251215T160849Z
UID:1052-1771588800-1771592400@tobaccofreerecoverypa.com
SUMMARY:Vaping: What We Know and What We Don't Know
DESCRIPTION:An overview of the use of e-cigarettes and other vaping devices with a special focus on individuals with behavioral challenges. \n\n\nLEARNING OBJECTIVES:\n\nProvide a description of current vaping products on the market today.\nReview adult and youth prevalence data.\nIdentify the association between combustible tobacco and vaping product use.\nReview data on the safety and efficacy of e-cigarettes to stop smoking.\nPresent an overview of community resources for prevention and treatment.\n\n\n\nREGISTER HERE
URL:https://tobaccofreerecoverypa.com/training/vaping-what-we-know-and-what-we-dont-know-47/
CATEGORIES:Training
END:VEVENT
BEGIN:VEVENT
DTSTART;TZID=America/New_York:20260226T120000
DTEND;TZID=America/New_York:20260226T133000
DTSTAMP:20260421T080508
CREATED:20251215T161107Z
LAST-MODIFIED:20251215T161107Z
UID:1053-1772107200-1772112600@tobaccofreerecoverypa.com
SUMMARY:The Rationale: Addressing Tobacco Use in Behavioral Health Services
DESCRIPTION:This presentation explores tobacco use disorder specific to a behavioral health population and integrated recovery-oriented interventions. \n  \nUpon completion of this training\, participants will be able to: \n1. Define the origin of prevailing tobacco-related social norms in the treatment and recovery culture. \n2. Cite data to demonstrate that Pennsylvanians with mental and substance use disorders have disproportional tobacco-related health disparities and inadequate access to appropriate tobacco treatment services. \n3. Identify strategies to denormalize tobacco use in behavioral health settings and support evidence-based tobacco use disorder interventions within a recovery-oriented framework. \nREGISTER HERE
URL:https://tobaccofreerecoverypa.com/training/the-rationale-addressing-tobacco-use-in-behavioral-health-services-38/
CATEGORIES:Training
END:VEVENT
END:VCALENDAR