BEGIN:VCALENDAR
VERSION:2.0
PRODID:-//Pennsylvania Statewide Tobacco-Free Recovery Initiative - ECPv6.15.18//NONSGML v1.0//EN
CALSCALE:GREGORIAN
METHOD:PUBLISH
X-ORIGINAL-URL:https://tobaccofreerecoverypa.com
X-WR-CALDESC:Events for Pennsylvania Statewide Tobacco-Free Recovery Initiative
REFRESH-INTERVAL;VALUE=DURATION:PT1H
X-Robots-Tag:noindex
X-PUBLISHED-TTL:PT1H
BEGIN:VTIMEZONE
TZID:America/New_York
BEGIN:DAYLIGHT
TZOFFSETFROM:-0500
TZOFFSETTO:-0400
TZNAME:EDT
DTSTART:20250309T070000
END:DAYLIGHT
BEGIN:STANDARD
TZOFFSETFROM:-0400
TZOFFSETTO:-0500
TZNAME:EST
DTSTART:20251102T060000
END:STANDARD
BEGIN:DAYLIGHT
TZOFFSETFROM:-0500
TZOFFSETTO:-0400
TZNAME:EDT
DTSTART:20260308T070000
END:DAYLIGHT
BEGIN:STANDARD
TZOFFSETFROM:-0400
TZOFFSETTO:-0500
TZNAME:EST
DTSTART:20261101T060000
END:STANDARD
BEGIN:DAYLIGHT
TZOFFSETFROM:-0500
TZOFFSETTO:-0400
TZNAME:EDT
DTSTART:20270314T070000
END:DAYLIGHT
BEGIN:STANDARD
TZOFFSETFROM:-0400
TZOFFSETTO:-0500
TZNAME:EST
DTSTART:20271107T060000
END:STANDARD
END:VTIMEZONE
BEGIN:VEVENT
DTSTART;TZID=America/New_York:20260617T120000
DTEND;TZID=America/New_York:20260617T130000
DTSTAMP:20260419T151931
CREATED:20260302T154221Z
LAST-MODIFIED:20260302T154221Z
UID:1096-1781697600-1781701200@tobaccofreerecoverypa.com
SUMMARY:Pharmacotherapy: Managing Tobacco Withdrawal with Confidence
DESCRIPTION:Explore how pharmacotherapy is a safe\, well-tolerated\, and an effective solution for managing tobacco withdrawal and craving. \n  \nLEARNING OBJECTIVES:\n\nRecognize the symptoms of tobacco withdrawal.\nIdentify FDA-approved medications to manage tobacco withdrawal and craving.\nDevelop an understanding of the effectiveness of pharmacotherapy to treat tobacco use disorder\nDescribe how to dose and properly use nicotine and non-nicotine medications.\nRespond to common medication questions and concerns.\n\nREGISTER HERE
URL:https://tobaccofreerecoverypa.com/training/pharmacotherapy-managing-tobacco-withdrawal-with-confidence-40/
CATEGORIES:Training
END:VEVENT
BEGIN:VEVENT
DTSTART;TZID=America/New_York:20260623T120000
DTEND;TZID=America/New_York:20260623T133000
DTSTAMP:20260419T151931
CREATED:20260302T154400Z
LAST-MODIFIED:20260302T154400Z
UID:1097-1782216000-1782221400@tobaccofreerecoverypa.com
SUMMARY:Tobacco Recovery: Learning to be Tobacco-Free!
DESCRIPTION:Applying the principles of recovery to address a tobacco use disorder allows for a rewarding\, growth promoting process of behavior change. \n  \nUpon completion of this training\, participants will be able to: \n1. Define Tobacco Use Disorder \n2. Explain proactive strategies to adapt to behavior change \n3. Identify ways to relieve craving and withdrawal \n4. Learn how to support significant others \nREGISTER HERE
URL:https://tobaccofreerecoverypa.com/training/tobacco-recovery-learning-to-be-tobacco-free-46/
CATEGORIES:Training
END:VEVENT
END:VCALENDAR